BEGIN:VCALENDAR
VERSION:2.0
PRODID:-//Marbella Market - ECPv6.0.12//NONSGML v1.0//EN
CALSCALE:GREGORIAN
METHOD:PUBLISH
X-WR-CALNAME:Marbella Market
X-ORIGINAL-URL:https://marbella.market
X-WR-CALDESC:Events for Marbella Market
REFRESH-INTERVAL;VALUE=DURATION:PT1H
X-Robots-Tag:noindex
X-PUBLISHED-TTL:PT1H
BEGIN:VTIMEZONE
TZID:Europe/Paris
BEGIN:DAYLIGHT
TZOFFSETFROM:+0100
TZOFFSETTO:+0200
TZNAME:CEST
DTSTART:20230326T010000
END:DAYLIGHT
BEGIN:STANDARD
TZOFFSETFROM:+0200
TZOFFSETTO:+0100
TZNAME:CET
DTSTART:20231029T010000
END:STANDARD
END:VTIMEZONE
BEGIN:VEVENT
DTSTART;TZID=Europe/Paris:20230611T100000
DTEND;TZID=Europe/Paris:20230611T193000
DTSTAMP:20260423T102314
CREATED:20230404T170515Z
LAST-MODIFIED:20230409T113443Z
UID:10000005-1686477600-1686511800@marbella.market
SUMMARY:el mercado
DESCRIPTION:
URL:https://marbella.market/mercado/el-mercado-06-23/
LOCATION:Marbella Arena\, Antigua Pl. de Toros\, Av. Pilar Calvo\, s/n\, Marbella\, Málaga\, 29600\, España
CATEGORIES:Los mercados
ATTACH;FMTTYPE=image/png:https://marbella.market/wp-content/uploads/2023/04/mercado_junio.png
ORGANIZER;CN="Marbella%20arena":MAILTO:info@marbella.market
GEO:36.492099079878;-4.9593137555167
X-APPLE-STRUCTURED-LOCATION;VALUE=URI;X-ADDRESS=Marbella Arena Antigua Pl. de Toros Av. Pilar Calvo s/n Marbella Málaga 29600 España;X-APPLE-RADIUS=500;X-TITLE=Antigua Pl. de Toros\, Av. Pilar Calvo\, s/n:geo:-4.9593137555167,36.492099079878
END:VEVENT
END:VCALENDAR